BEGIN:VCALENDAR
VERSION:2.0
PRODID:-//Choeur des Armaillis de la Gruyère - ECPv6.15.17//NONSGML v1.0//EN
CALSCALE:GREGORIAN
METHOD:PUBLISH
X-WR-CALNAME:Choeur des Armaillis de la Gruyère
X-ORIGINAL-URL:https://choeur-des-armaillis.ch
X-WR-CALDESC:Évènements pour Choeur des Armaillis de la Gruyère
REFRESH-INTERVAL;VALUE=DURATION:PT1H
X-Robots-Tag:noindex
X-PUBLISHED-TTL:PT1H
BEGIN:VTIMEZONE
TZID:UTC
BEGIN:STANDARD
TZOFFSETFROM:+0000
TZOFFSETTO:+0000
TZNAME:UTC
DTSTART:20120101T000000
END:STANDARD
END:VTIMEZONE
BEGIN:VEVENT
DTSTART;VALUE=DATE:20130608
DTEND;VALUE=DATE:20130609
DTSTAMP:20260419T194924
CREATED:20181003T133314Z
LAST-MODIFIED:20181003T133314Z
UID:407-1370664000-1370735999@choeur-des-armaillis.ch
SUMMARY:Concert à Alle dans le Jura
DESCRIPTION:La Fête régionale des Céciliennes se déroule ce week-end en Ajoie et plus précisemment à Alle les 8 et 9 juin 2013.\nEt c’est dans ce cadre festif que le Choeur des Armaillis de la Gruyère chante samedi soir 8 juin à 20h à la Salle des fêtes d’Alle.
URL:https://choeur-des-armaillis.ch/event/concert-a-alle-dans-le-jura/
END:VEVENT
END:VCALENDAR