BEGIN:VCALENDAR
VERSION:2.0
PRODID:-//Choeur des Armaillis de la Gruyère - ECPv6.15.17//NONSGML v1.0//EN
CALSCALE:GREGORIAN
METHOD:PUBLISH
X-ORIGINAL-URL:https://choeur-des-armaillis.ch
X-WR-CALDESC:Évènements pour Choeur des Armaillis de la Gruyère
REFRESH-INTERVAL;VALUE=DURATION:PT1H
X-Robots-Tag:noindex
X-PUBLISHED-TTL:PT1H
BEGIN:VTIMEZONE
TZID:Europe/Zurich
BEGIN:DAYLIGHT
TZOFFSETFROM:+0100
TZOFFSETTO:+0200
TZNAME:CEST
DTSTART:20240331T010000
END:DAYLIGHT
BEGIN:STANDARD
TZOFFSETFROM:+0200
TZOFFSETTO:+0100
TZNAME:CET
DTSTART:20241027T010000
END:STANDARD
BEGIN:DAYLIGHT
TZOFFSETFROM:+0100
TZOFFSETTO:+0200
TZNAME:CEST
DTSTART:20250330T010000
END:DAYLIGHT
BEGIN:STANDARD
TZOFFSETFROM:+0200
TZOFFSETTO:+0100
TZNAME:CET
DTSTART:20251026T010000
END:STANDARD
BEGIN:DAYLIGHT
TZOFFSETFROM:+0100
TZOFFSETTO:+0200
TZNAME:CEST
DTSTART:20260329T010000
END:DAYLIGHT
BEGIN:STANDARD
TZOFFSETFROM:+0200
TZOFFSETTO:+0100
TZNAME:CET
DTSTART:20261025T010000
END:STANDARD
END:VTIMEZONE
BEGIN:VEVENT
DTSTART;TZID=Europe/Zurich:20250516T080000
DTEND;TZID=Europe/Zurich:20250516T170000
DTSTAMP:20260422T102811
CREATED:20241218T200023Z
LAST-MODIFIED:20250414T115818Z
UID:30716-1747382400-1747414800@choeur-des-armaillis.ch
SUMMARY:Concert à l'occasion des Céciliennes\, à Noréaz\, église paroissiale
DESCRIPTION:
URL:https://choeur-des-armaillis.ch/event/concert-a-loccasion-des-ceciliennes-a-noreaz-eglise-paroissiale/
LOCATION:Noréaz\, église paroissiale\, Impasse du Chêne 11\, Noréaz
END:VEVENT
BEGIN:VEVENT
DTSTART;TZID=Europe/Zurich:20250523T200000
DTEND;TZID=Europe/Zurich:20250523T200000
DTSTAMP:20260422T102811
CREATED:20241218T135600Z
LAST-MODIFIED:20250507T091504Z
UID:30725-1748030400-1748030400@choeur-des-armaillis.ch
SUMMARY:Concert Gala choeurs-d'hommes\, à Founex/VD
DESCRIPTION:
URL:https://choeur-des-armaillis.ch/event/concert-gala-choeurs-dhommes-a-founex-ge/
LOCATION:Founex
END:VEVENT
BEGIN:VEVENT
DTSTART;VALUE=DATE:20250524
DTEND;VALUE=DATE:20250526
DTSTAMP:20260422T102811
CREATED:20241218T135936Z
LAST-MODIFIED:20250103T000528Z
UID:30732-1748044800-1748217599@choeur-des-armaillis.ch
SUMMARY:Concert Volksmusikfestival à Heiden (Appenzell)
DESCRIPTION:
URL:https://choeur-des-armaillis.ch/event/concert-volksmusikfestival-a-heiden-appenzell/
LOCATION:Heiden\, Heiden
END:VEVENT
END:VCALENDAR